Workbook
Name aude: #REF!
Name aude: #REF!
Name aude: #REF!
Name aude: #REF!
Name aude: #REF!
Name aude: #REF!
Name Code_Sites_Dossier: #REF!
Name Code_Sites_Dossier: #REF!
Name Code_Sites_Dossier: #REF!
Name Financeurs: #REF!
Name Financeurs: #REF!
Name Financeurs: #REF!
Name Liste: [1]Matériels_OCS!$E$2:$E$89
Name Liste1: #REF!
Name Liste1: #REF!
Name Liste1: #REF!
Name Liste2: #REF!
Name Liste2: #REF!
Name Liste2: #REF!
Name Liste3: [1]Matériels_OCS!$E$79:$E$89
Name Missions: #REF!
Name Missions: #REF!
Name Missions: #REF!
Name Modalité: #REF!
Name Modalité: #REF!
Name Modalité: #REF!
Name Montant_Retenu: #REF!
Name ouinon: '[2]BASE DE DONNEES'!$B$1:$B$2
Name Poste: #REF!
Name Poste: #REF!
Name Poste: #REF!
Name Poste: #REF!
Name Poste: #REF!
Name Poste: #REF!
Name Régions: #REF!
Name Régions: #REF!
Name Régions: #REF!
Name Régions: #REF!
Name Régions: #REF!
Name Régions: #REF!
Name Statut_Juridique: #REF!
Name Statut_Juridique: #REF!
Name Statut_Juridique: #REF!
Name Statut_Juridique: #REF!
Name Statut_Juridique: #REF!
Name Statut_Juridique: #REF!
Name Unité: #REF!
Name Unité: #REF!
Name Unité: #REF!
Name Valeur: [1]Matériels_OCS!$H$2:$H$89

Sheet NOTICE
A1: DEMANDE D'AIDE
A2: 77.01.01 - Partenariat Européen d’Innovation pour la productivité et le développement durable de l’agriculture (PEI)
A3: FONDS EUROPEEN AGRICOLE POUR LE DEVELOPPEMENT RURAL (FEADER)
A4: V2.0 du 01/06/2026
B6: Appel à projets : | C6: Phase fonctionnement des GO
B7: Porteur du projet :
B8: Intitulé du projet :
B10: Légende document : | E10: Cellule remplie automatiquement avec une formule
E11: Cellule à compléter
E12: Cellule pré-remplie
B14: Ce fichier regroupe les annexes techniques du formulaire de demande FEADER
B17: Partie 1 | C17: Dépenses sur devis : prestations externes, matériels/équipements, voyages d'études
B18: Partie 2 | C18: Dépenses de personnel OCS
B19: Partie 3 | C19: Synthèse - Dépenses et Plan de financement
B21: Dans le cadre de votre demande de subvention, nous vous invitons à présenter les justificatifs de dépenses prévisionnelles sur devis : - 1 devis ou pièce équivalente pour toutes les dépenses inférieures à 5 000 € HT - 2 devis ou pièces équivalentes pour toutes les dépenses supérieures ou égales à 5 000 € HT et inférieures à 90 000 € HT - 3 devis ou pièces équivalentes pour toutes les dépenses supérieures ou égales à 90 000 € HT
B23: Pour les marchés publics passés sous forme de procédure adaptée ou formalisée, veuillez uniquement renseigner les informations relatives aux devis/DGPF retenus. Les données relatives aux pièces justificatives n°2 et n°3 ne sont pas à compléter.
B25: Ce document est à renseigner pour toutes demandes d'aide, les montants générés automatiquement Partie 3 seront à reporter dans l'onglet plan de financement de votre demande, bloc
B26: "Dépenses prévisionnelles" sur "Mes démarches en Nouvelle-Aquitaine "
B28: Lorsque l'opération est mise en œuvre par un partenariat : le chef de file synthétise les dépenses de chaque partenaires ainsi que sur la demande en ligne

Sheet Part1_DEP_DEVIS
B2: 1: DEPENSES PREVISIONNELLES SUR DEVIS : prestations externes, matériels/équipements, autres (voyages d'études)
B3: FONDS EUROPEEN AGRICOLE POUR LE DEVELOPPEMENT RURAL (FEADER)
B5: Porteur du projet : | C5: =NOTICE!C7 -> 0
B6: Intitulé du projet : | C6: =NOTICE!C8 -> 0
B8: Montant TOTAL: | H8: =SUM(Q14:Q44) -> 0
B10: * Les demandeurs assujettis totalement et partiellement à la TVA devront présenter leur demande en € HT / les demandeurs non assujettis à la TVA devront présenter leur demande en € TTC
E12: Dépense retenue | I12: Pièce justificative n°2 (coût raisonnable) | M12: Pièce justificative n°3 (coût raisonnable)
B13: Raison sociale / nom du partenaire qui porte la dépense | C13: Type de dépenses | D13: Description de la dépense | E13: Dénomination du fournisseur | F13: N° de devis (si type de pièce = devis) | G13: HT ou TTC* | H13: Montant | I13: Dénomination du fournisseur | J13: N° de devis (si type de pièce = devis) | K13: HT ou TTC* | L13: Montant | M13: Dénomination du fournisseur | N13: N° de devis (si type de pièce = devis) | O13: HT ou TTC* | P13: Montant | Q13: Montant Retenu | R13: Commentaires
Q14: =IFERROR(IF(ISBLANK(H14),"",H14),"")
Q15: =IFERROR(IF(ISBLANK(H15),"",H15),"")
Q16: =IFERROR(IF(ISBLANK(H16),"",H16),"")
Q17: =IFERROR(IF(ISBLANK(H17),"",H17),"")
Q18: =IFERROR(IF(ISBLANK(H18),"",H18),"")
Q19: =IFERROR(IF(ISBLANK(H19),"",H19),"")
Q20: =IFERROR(IF(ISBLANK(H20),"",H20),"")
Q21: =IFERROR(IF(ISBLANK(H21),"",H21),"")
Q22: =IFERROR(IF(ISBLANK(H22),"",H22),"")
Q23: =IFERROR(IF(ISBLANK(H23),"",H23),"")
Q24: =IFERROR(IF(ISBLANK(H24),"",H24),"")
Q25: =IFERROR(IF(ISBLANK(H25),"",H25),"")
... Q44: =IFERROR(IF(ISBLANK(H44),"",H44),"")
B45: Montant TOTAL | H45: =SUM(H14:H44) -> 0

Sheet Part_2_DEP_PERS_OCS
A1: 2: DEPENSES DE PERSONNEL
A2: FONDS EUROPEEN AGRICOLE POUR LE DEVELOPPEMENT RURAL (FEADER)
A4: Porteur du projet : | C4: =NOTICE!C7 -> 0
A5: Intitulé du projet : | C5: =NOTICE!C8 -> 0
A7: Attention, les dépenses de personnel seront calculées sur la base d'une Option de Coût Simplifié (OCS). Lors de l'instruction de votre demande d'aide les catégories renseignées pourront être revues.
C9: Montant TOTAL: | F9: =H141 -> 0
B11: Je demande (nous demandons) à bénéficier de l'aide sur les coûts indirects liés à l'opération d'un taux forfaitaire de 15% des frais de personnels directs éligibles | I11: Oui
B15: Raison sociale / nom du partenaire | C15: Nom de l'intervenant | D15: Intitulé de la mission réalisé par l'agent dans le cadre du projet | E15: Catégorie du poste du bulletin de salaire, contrat de travail ou Déclaration Sociale Nominative (DSN) | F15: Barème Horaire | G15: Temps de travail consacré au projet en heure | H15: Montant présenté | I15: Mise à disposition ou intérim
F16: (1) | G16: (2) | H16: 1*2
F17: =IF(E17="Cadre",44.47,IF(E17="Non cadre",34.42,IF(E17="Stagiaire",4.5,0))) -> 0 | H17: =F17*G17 -> 0
F18: =IF(E18="Cadre",44.47,IF(E18="Non cadre",34.42,IF(E18="Stagiaire",4.5,0))) -> 0 | H18: =F18*G18 -> 0
F19: =IF(E19="Cadre",44.47,IF(E19="Non cadre",34.42,IF(E19="Stagiaire",4.5,0))) -> 0 | H19: =F19*G19 -> 0
F20: =IF(E20="Cadre",44.47,IF(E20="Non cadre",34.42,IF(E20="Stagiaire",4.5,0))) -> 0 | H20: =F20*G20 -> 0
F21: =IF(E21="Cadre",44.47,IF(E21="Non cadre",34.42,IF(E21="Stagiaire",4.5,0))) -> 0 | H21: =F21*G21 -> 0
F22: =IF(E22="Cadre",44.47,IF(E22="Non cadre",34.42,IF(E22="Stagiaire",4.5,0))) -> 0 | H22: =F22*G22 -> 0
F23: =IF(E23="Cadre",44.47,IF(E23="Non cadre",34.42,IF(E23="Stagiaire",4.5,0))) -> 0 | H23: =F23*G23 -> 0
F24: =IF(E24="Cadre",44.47,IF(E24="Non cadre",34.42,IF(E24="Stagiaire",4.5,0))) -> 0 | H24: =F24*G24 -> 0
F25: =IF(E25="Cadre",44.47,IF(E25="Non cadre",34.42,IF(E25="Stagiaire",4.5,0))) -> 0 | H25: =F25*G25 -> 0
F26: =IF(E26="Cadre",44.47,IF(E26="Non cadre",34.42,IF(E26="Stagiaire",4.5,0))) -> 0 | H26: =F26*G26 -> 0
F27: =IF(E27="Cadre",44.47,IF(E27="Non cadre",34.42,IF(E27="Stagiaire",4.5,0))) -> 0 | H27: =F27*G27 -> 0
F28: =IF(E28="Cadre",44.47,IF(E28="Non cadre",34.42,IF(E28="Stagiaire",4.5,0))) -> 0 | H28: =F28*G28 -> 0
... F140: =IF(E140="Cadre",44.47,IF(E140="Non cadre",34.42,IF(E140="Stagiaire",4.5,0))) -> 0 | H140: =F140*G140 -> 0
B141: Montant TOTAL | H141: =SUM(H17:H140) -> 0

Sheet Part_3_SYNTHESE
B2: 3: SYNTHESE
B3: FONDS EUROPEEN AGRICOLE POUR LE DEVELOPPEMENT RURAL (FEADER)
B5: Porteur du projet : | D5: =NOTICE!C7 -> 0
B6: Intitulé du projet : | D6: =NOTICE!C8 -> 0
C9: Type de Depense | D9: Montant total
C10: Dépenses de personnel | D10: =Part_2_DEP_PERS_OCS!F9 -> 0
C11: Coûts Indirects | D11: =IFERROR(IF(Part_2_DEP_PERS_OCS!I11="Oui",Part_2_DEP_PERS_OCS!F9*0.15,0),"") -> 0
C12: Prestations de services | D12: =IFERROR(IF(SUMIF(Part1_DEP_DEVIS!$C$14:$C$44,C12,Part1_DEP_DEVIS!$H$14:$H$44)>0,SUMIF(Part1_DEP_DEVIS!$C$14:$C$44,C12,Part1_DEP_DEVIS!$H$14:$H$44),0),"") -> 0
C13: Matériels/équipements | D13: =IFERROR(IF(SUMIF(Part1_DEP_DEVIS!$C$14:$C$44,C13,Part1_DEP_DEVIS!$H$14:$H$44)>0,SUMIF(Part1_DEP_DEVIS!$C$14:$C$44,C13,Part1_DEP_DEVIS!$H$14:$H$44),0),"") -> 0
C14: Autres (voyages d'études) | D14: =IFERROR(IF(SUMIF(Part1_DEP_DEVIS!$C$14:$C$44,"Autres",Part1_DEP_DEVIS!$H$14:$H$44)>0,SUMIF(Part1_DEP_DEVIS!$C$14:$C$44,"Autres",Part1_DEP_DEVIS!$H$14:$H$44),0),"") -> 0
C15: TOTAL Projet | D15: =SUM(D10:D14) -> 0
C17: Remplir les cases grises "nom des partenaires" et "montant" en fonction des type de dépenses
C19: Ventilation par partenaire
C20: Type de dépense | D20: Partenaire 1 | E20: Partenaire 2 | F20: Partenaire 3 | G20: Partenaire X
D21: Montant | E21: Montant | F21: Montant | G21: Montant
C22: Dépenses de personnel
C23: Coûts Indirects
C24: Prestations externes
C25: Matériels/équipements
C26: Autres (voyages d'études)
C27: TOTAL Projet | D27: =SUM(D22:D26) -> 0 | E27: =SUM(E22:E26) -> 0 | F27: =SUM(F22:F26) -> 0 | G27: =SUM(G22:G26) -> 0 | H27: =SUM(D27:G27) -> 0
C29: Les valeurs de ce tableau sont à reporter dans l'onglet plan de financement de votre demande d'aide sur "Mes Demarches en Nouvelle-Aquitaine"
C31: Plan de financement prévisionnel
C32: Financeurs sollicités | D32: Montant total | E32: Taux
C33: Région | D33: =IF(ISBLANK($D$15),"",((0.8*$D$15)-$D$35)*0.2) -> 0 | E33: =D33/$D$38 -> #DIV/0!
C34: FEADER | D34: =IF(ISBLANK($D$15),"",((0.8*$D$15)-$D$35)*0.8) -> 0 | E34: =D34/$D$38 -> #DIV/0!
C35: Autre : | E35: =D35/$D$38 -> #DIV/0!
C36: TOTAL aide publique | D36: =SUM(D33:D35) -> 0 | E36: =D36/$D$38 -> #DIV/0!
C37: Autofinancement | D37: =D15-SUM(D33:D35) -> 0 | E37: =D37/$D$38 -> #DIV/0!
C38: TOTAL général | D38: =SUM(D36:D37) -> 0
C43: Fait à _______________, le ______________
C45: Signature du porteur de projet (représentant légal)
C46: Nom du signataire : _____________________________
C47: Fonction du signataire : _____________________________
C48: Signature :

Sheet INSTRU_PRESTA_EXT_1
B1: INSTRUCTION
B2: 1: DEPENSES PRESTATIONS DE SERVICE (= EXTERNES) PREVISIONNELLES
B3: FONDS EUROPEEN AGRICOLE POUR LE DEVELOPPEMENT RURAL (FEADER)
B5: Porteur du projet : | C5: =NOTICE!C7 -> 0
B6: Intitulé du projet : | C6: =NOTICE!C8 -> 0
B8: Montant TOTAL: | F8: =IF(D10="HT",SUM(F14:F402),SUM(G14:G402)) -> #REF! | Y8: Montant TOTAL retenue instruction: | AC8: =SUM(AC14:AC402) -> 0
C10: Saisir des montants en : | D10: HT
C11: Si dossier AB, toujours en HT
D12: Pièce retenue | H12: Pièce justificative n°2 | L12: Pièce justificative n°3 | S12: Pièce retenue | V12: Pièce justificative n°2 | Y12: Pièce justificative n°3
B13: Action concernée | C13: Description de la dépense | D13: Dénomination du fournisseur | E13: N° de devis (si type de pièce = devis) | F13: Montant HT | G13: Montant TTC | H13: Dénomination du fournisseur | I13: N° de devis (si type de pièce = devis) | J13: Montant HT | K13: Montant TTC | L13: Dénomination du fournisseur | M13: N° de devis (si type de pièce = devis) | N13: Montant HT | O13: Montant TTC | P13: Commentaires | Q13: Action concernée | R13: Description de la dépense | S13: Dénomination du fournisseur | T13: N° de devis (si type de pièce = devis) | U13: Montant | V13: Dénomination du fournisseur | W13: N° de devis (si type de pièce = devis) | X13: Montant | Y13: Dénomination du fournisseur | Z13: N° de devis (si type de pièce = devis) | AA13: Montant | AB13: Commentaires | AC13: Montant éligible | AD13: Montant inéligible | AE13: Motif d'inéligibilité | AF13: Ecart entre le prix le plus bas présenté et le prix retenu (en %) | AG13: Montant raisonnable maximal théorique | AH13: Montant retenu | AI13: Commentaires
B14: =Part1_DEP_DEVIS!B14 -> 0 | C14: =Part1_DEP_DEVIS!C14 -> 0 | D14: =Part1_DEP_DEVIS!E14 -> 0 | E14: =Part1_DEP_DEVIS!F14 -> 0 | F14: =Part1_DEP_DEVIS!H14 -> 0 | G14: =Part1_DEP_DEVIS!#REF! -> #REF! | H14: =Part1_DEP_DEVIS!I14 -> 0 | I14: =Part1_DEP_DEVIS!J14 -> 0 | J14: =Part1_DEP_DEVIS!K14 -> 0 | K14: =Part1_DEP_DEVIS!L14 -> 0 | L14: =Part1_DEP_DEVIS!M14 -> 0 | M14: =Part1_DEP_DEVIS!N14 -> 0 | N14: =Part1_DEP_DEVIS!O14 -> 0 | O14: =Part1_DEP_DEVIS!P14 -> 0 | P14: =Part1_DEP_DEVIS!R14 -> 0 | AD14: =U14-AC14 -> 0
B15: =Part1_DEP_DEVIS!B15 -> 0 | C15: =Part1_DEP_DEVIS!C15 -> 0 | D15: =Part1_DEP_DEVIS!E15 -> 0 | E15: =Part1_DEP_DEVIS!F15 -> 0 | F15: =Part1_DEP_DEVIS!H15 -> 0 | G15: =Part1_DEP_DEVIS!#REF! -> #REF! | H15: =Part1_DEP_DEVIS!I15 -> 0 | I15: =Part1_DEP_DEVIS!J15 -> 0 | J15: =Part1_DEP_DEVIS!K15 -> 0 | K15: =Part1_DEP_DEVIS!L15 -> 0 | L15: =Part1_DEP_DEVIS!M15 -> 0 | M15: =Part1_DEP_DEVIS!N15 -> 0 | N15: =Part1_DEP_DEVIS!O15 -> 0 | O15: =Part1_DEP_DEVIS!P15 -> 0 | P15: =Part1_DEP_DEVIS!R15 -> 0 | AD15: =U15-AC15 -> 0
B16: =Part1_DEP_DEVIS!B16 -> 0 | C16: =Part1_DEP_DEVIS!C16 -> 0 | D16: =Part1_DEP_DEVIS!E16 -> 0 | E16: =Part1_DEP_DEVIS!F16 -> 0 | F16: =Part1_DEP_DEVIS!H16 -> 0 | G16: =Part1_DEP_DEVIS!#REF! -> #REF! | H16: =Part1_DEP_DEVIS!I16 -> 0 | I16: =Part1_DEP_DEVIS!J16 -> 0 | J16: =Part1_DEP_DEVIS!K16 -> 0 | K16: =Part1_DEP_DEVIS!L16 -> 0 | L16: =Part1_DEP_DEVIS!M16 -> 0 | M16: =Part1_DEP_DEVIS!N16 -> 0 | N16: =Part1_DEP_DEVIS!O16 -> 0 | O16: =Part1_DEP_DEVIS!P16 -> 0 | P16: =Part1_DEP_DEVIS!R16 -> 0 | AD16: =U16-AC16 -> 0
B17: =Part1_DEP_DEVIS!B17 -> 0 | C17: =Part1_DEP_DEVIS!C17 -> 0 | D17: =Part1_DEP_DEVIS!E17 -> 0 | E17: =Part1_DEP_DEVIS!F17 -> 0 | F17: =Part1_DEP_DEVIS!H17 -> 0 | G17: =Part1_DEP_DEVIS!#REF! -> #REF! | H17: =Part1_DEP_DEVIS!I17 -> 0 | I17: =Part1_DEP_DEVIS!J17 -> 0 | J17: =Part1_DEP_DEVIS!K17 -> 0 | K17: =Part1_DEP_DEVIS!L17 -> 0 | L17: =Part1_DEP_DEVIS!M17 -> 0 | M17: =Part1_DEP_DEVIS!N17 -> 0 | N17: =Part1_DEP_DEVIS!O17 -> 0 | O17: =Part1_DEP_DEVIS!P17 -> 0 | P17: =Part1_DEP_DEVIS!R17 -> 0 | AD17: =U17-AC17 -> 0
B18: =Part1_DEP_DEVIS!B26 -> 0 | C18: =Part1_DEP_DEVIS!C26 -> 0 | D18: =Part1_DEP_DEVIS!E26 -> 0 | E18: =Part1_DEP_DEVIS!F26 -> 0 | F18: =Part1_DEP_DEVIS!H26 -> 0 | G18: =Part1_DEP_DEVIS!#REF! -> #REF! | H18: =Part1_DEP_DEVIS!I26 -> 0 | I18: =Part1_DEP_DEVIS!J26 -> 0 | J18: =Part1_DEP_DEVIS!K26 -> 0 | K18: =Part1_DEP_DEVIS!L26 -> 0 | L18: =Part1_DEP_DEVIS!M26 -> 0 | M18: =Part1_DEP_DEVIS!N26 -> 0 | N18: =Part1_DEP_DEVIS!O26 -> 0 | O18: =Part1_DEP_DEVIS!P26 -> 0 | P18: =Part1_DEP_DEVIS!R26 -> 0 | AD18: =U18-AC18 -> 0
B19: =Part1_DEP_DEVIS!B27 -> 0 | C19: =Part1_DEP_DEVIS!C27 -> 0 | D19: =Part1_DEP_DEVIS!E27 -> 0 | E19: =Part1_DEP_DEVIS!F27 -> 0 | F19: =Part1_DEP_DEVIS!H27 -> 0 | G19: =Part1_DEP_DEVIS!#REF! -> #REF! | H19: =Part1_DEP_DEVIS!I27 -> 0 | I19: =Part1_DEP_DEVIS!J27 -> 0 | J19: =Part1_DEP_DEVIS!K27 -> 0 | K19: =Part1_DEP_DEVIS!L27 -> 0 | L19: =Part1_DEP_DEVIS!M27 -> 0 | M19: =Part1_DEP_DEVIS!N27 -> 0 | N19: =Part1_DEP_DEVIS!O27 -> 0 | O19: =Part1_DEP_DEVIS!P27 -> 0 | P19: =Part1_DEP_DEVIS!R27 -> 0 | AD19: =U19-AC19 -> 0
B20: =Part1_DEP_DEVIS!B28 -> 0 | C20: =Part1_DEP_DEVIS!C28 -> 0 | D20: =Part1_DEP_DEVIS!E28 -> 0 | E20: =Part1_DEP_DEVIS!F28 -> 0 | F20: =Part1_DEP_DEVIS!H28 -> 0 | G20: =Part1_DEP_DEVIS!#REF! -> #REF! | H20: =Part1_DEP_DEVIS!I28 -> 0 | I20: =Part1_DEP_DEVIS!J28 -> 0 | J20: =Part1_DEP_DEVIS!K28 -> 0 | K20: =Part1_DEP_DEVIS!L28 -> 0 | L20: =Part1_DEP_DEVIS!M28 -> 0 | M20: =Part1_DEP_DEVIS!N28 -> 0 | N20: =Part1_DEP_DEVIS!O28 -> 0 | O20: =Part1_DEP_DEVIS!P28 -> 0 | P20: =Part1_DEP_DEVIS!R28 -> 0 | AD20: =U20-AC20 -> 0
B21: =Part1_DEP_DEVIS!B29 -> 0 | C21: =Part1_DEP_DEVIS!C29 -> 0 | D21: =Part1_DEP_DEVIS!E29 -> 0 | E21: =Part1_DEP_DEVIS!F29 -> 0 | F21: =Part1_DEP_DEVIS!H29 -> 0 | G21: =Part1_DEP_DEVIS!#REF! -> #REF! | H21: =Part1_DEP_DEVIS!I29 -> 0 | I21: =Part1_DEP_DEVIS!J29 -> 0 | J21: =Part1_DEP_DEVIS!K29 -> 0 | K21: =Part1_DEP_DEVIS!L29 -> 0 | L21: =Part1_DEP_DEVIS!M29 -> 0 | M21: =Part1_DEP_DEVIS!N29 -> 0 | N21: =Part1_DEP_DEVIS!O29 -> 0 | O21: =Part1_DEP_DEVIS!P29 -> 0 | P21: =Part1_DEP_DEVIS!R29 -> 0 | AD21: =U21-AC21 -> 0
B22: =Part1_DEP_DEVIS!B30 -> 0 | C22: =Part1_DEP_DEVIS!C30 -> 0 | D22: =Part1_DEP_DEVIS!E30 -> 0 | E22: =Part1_DEP_DEVIS!F30 -> 0 | F22: =Part1_DEP_DEVIS!H30 -> 0 | G22: =Part1_DEP_DEVIS!#REF! -> #REF! | H22: =Part1_DEP_DEVIS!I30 -> 0 | I22: =Part1_DEP_DEVIS!J30 -> 0 | J22: =Part1_DEP_DEVIS!K30 -> 0 | K22: =Part1_DEP_DEVIS!L30 -> 0 | L22: =Part1_DEP_DEVIS!M30 -> 0 | M22: =Part1_DEP_DEVIS!N30 -> 0 | N22: =Part1_DEP_DEVIS!O30 -> 0 | O22: =Part1_DEP_DEVIS!P30 -> 0 | P22: =Part1_DEP_DEVIS!R30 -> 0 | AD22: =U22-AC22 -> 0
B23: =Part1_DEP_DEVIS!#REF! -> #REF! | C23: =Part1_DEP_DEVIS!#REF! -> #REF! | D23: =Part1_DEP_DEVIS!#REF! -> #REF! | E23: =Part1_DEP_DEVIS!#REF! -> #REF! | F23: =Part1_DEP_DEVIS!#REF! -> #REF! | G23: =Part1_DEP_DEVIS!#REF! -> #REF! | H23: =Part1_DEP_DEVIS!#REF! -> #REF! | I23: =Part1_DEP_DEVIS!#REF! -> #REF! | ... P23: =Part1_DEP_DEVIS!#REF! -> #REF! | AD23: =U23-AC23 -> 0
B24: =Part1_DEP_DEVIS!#REF! -> #REF! | C24: =Part1_DEP_DEVIS!#REF! -> #REF! | D24: =Part1_DEP_DEVIS!#REF! -> #REF! | E24: =Part1_DEP_DEVIS!#REF! -> #REF! | F24: =Part1_DEP_DEVIS!#REF! -> #REF! | G24: =Part1_DEP_DEVIS!#REF! -> #REF! | H24: =Part1_DEP_DEVIS!#REF! -> #REF! | I24: =Part1_DEP_DEVIS!#REF! -> #REF! | ... P24: =Part1_DEP_DEVIS!#REF! -> #REF! | AD24: =U24-AC24 -> 0
B25: =Part1_DEP_DEVIS!#REF! -> #REF! | C25: =Part1_DEP_DEVIS!#REF! -> #REF! | D25: =Part1_DEP_DEVIS!#REF! -> #REF! | E25: =Part1_DEP_DEVIS!#REF! -> #REF! | F25: =Part1_DEP_DEVIS!#REF! -> #REF! | G25: =Part1_DEP_DEVIS!#REF! -> #REF! | H25: =Part1_DEP_DEVIS!#REF! -> #REF! | I25: =Part1_DEP_DEVIS!#REF! -> #REF! | ... P25: =Part1_DEP_DEVIS!#REF! -> #REF! | AD25: =U25-AC25 -> 0
B26: =Part1_DEP_DEVIS!#REF! -> #REF! | C26: =Part1_DEP_DEVIS!#REF! -> #REF! | D26: =Part1_DEP_DEVIS!#REF! -> #REF! | E26: =Part1_DEP_DEVIS!#REF! -> #REF! | F26: =Part1_DEP_DEVIS!#REF! -> #REF! | G26: =Part1_DEP_DEVIS!#REF! -> #REF! | H26: =Part1_DEP_DEVIS!#REF! -> #REF! | I26: =Part1_DEP_DEVIS!#REF! -> #REF! | ... P26: =Part1_DEP_DEVIS!#REF! -> #REF! | AD26: =U26-AC26 -> 0
B27: =Part1_DEP_DEVIS!#REF! -> #REF! | C27: =Part1_DEP_DEVIS!#REF! -> #REF! | D27: =Part1_DEP_DEVIS!#REF! -> #REF! | E27: =Part1_DEP_DEVIS!#REF! -> #REF! | F27: =Part1_DEP_DEVIS!#REF! -> #REF! | G27: =Part1_DEP_DEVIS!#REF! -> #REF! | H27: =Part1_DEP_DEVIS!#REF! -> #REF! | I27: =Part1_DEP_DEVIS!#REF! -> #REF! | ... P27: =Part1_DEP_DEVIS!#REF! -> #REF! | AD27: =U27-AC27 -> 0
B28: =Part1_DEP_DEVIS!#REF! -> #REF! | C28: =Part1_DEP_DEVIS!#REF! -> #REF! | D28: =Part1_DEP_DEVIS!#REF! -> #REF! | E28: =Part1_DEP_DEVIS!#REF! -> #REF! | F28: =Part1_DEP_DEVIS!#REF! -> #REF! | G28: =Part1_DEP_DEVIS!#REF! -> #REF! | H28: =Part1_DEP_DEVIS!#REF! -> #REF! | I28: =Part1_DEP_DEVIS!#REF! -> #REF! | ... P28: =Part1_DEP_DEVIS!#REF! -> #REF! | AD28: =U28-AC28 -> 0
B29: =Part1_DEP_DEVIS!#REF! -> #REF! | C29: =Part1_DEP_DEVIS!#REF! -> #REF! | D29: =Part1_DEP_DEVIS!#REF! -> #REF! | E29: =Part1_DEP_DEVIS!#REF! -> #REF! | F29: =Part1_DEP_DEVIS!#REF! -> #REF! | G29: =Part1_DEP_DEVIS!#REF! -> #REF! | H29: =Part1_DEP_DEVIS!#REF! -> #REF! | I29: =Part1_DEP_DEVIS!#REF! -> #REF! | ... P29: =Part1_DEP_DEVIS!#REF! -> #REF! | AD29: =U29-AC29 -> 0
B30: =Part1_DEP_DEVIS!#REF! -> #REF! | C30: =Part1_DEP_DEVIS!#REF! -> #REF! | D30: =Part1_DEP_DEVIS!#REF! -> #REF! | E30: =Part1_DEP_DEVIS!#REF! -> #REF! | F30: =Part1_DEP_DEVIS!#REF! -> #REF! | G30: =Part1_DEP_DEVIS!#REF! -> #REF! | H30: =Part1_DEP_DEVIS!#REF! -> #REF! | I30: =Part1_DEP_DEVIS!#REF! -> #REF! | ... P30: =Part1_DEP_DEVIS!#REF! -> #REF! | AD30: =U30-AC30 -> 0
B31: =Part1_DEP_DEVIS!#REF! -> #REF! | C31: =Part1_DEP_DEVIS!#REF! -> #REF! | D31: =Part1_DEP_DEVIS!#REF! -> #REF! | E31: =Part1_DEP_DEVIS!#REF! -> #REF! | F31: =Part1_DEP_DEVIS!#REF! -> #REF! | G31: =Part1_DEP_DEVIS!#REF! -> #REF! | H31: =Part1_DEP_DEVIS!#REF! -> #REF! | I31: =Part1_DEP_DEVIS!#REF! -> #REF! | ... P31: =Part1_DEP_DEVIS!#REF! -> #REF! | AD31: =U31-AC31 -> 0
B32: =Part1_DEP_DEVIS!#REF! -> #REF! | C32: =Part1_DEP_DEVIS!#REF! -> #REF! | D32: =Part1_DEP_DEVIS!#REF! -> #REF! | E32: =Part1_DEP_DEVIS!#REF! -> #REF! | F32: =Part1_DEP_DEVIS!#REF! -> #REF! | G32: =Part1_DEP_DEVIS!#REF! -> #REF! | H32: =Part1_DEP_DEVIS!#REF! -> #REF! | I32: =Part1_DEP_DEVIS!#REF! -> #REF! | ... P32: =Part1_DEP_DEVIS!#REF! -> #REF! | AD32: =U32-AC32 -> 0
B33: =Part1_DEP_DEVIS!#REF! -> #REF! | C33: =Part1_DEP_DEVIS!#REF! -> #REF! | D33: =Part1_DEP_DEVIS!#REF! -> #REF! | E33: =Part1_DEP_DEVIS!#REF! -> #REF! | F33: =Part1_DEP_DEVIS!#REF! -> #REF! | G33: =Part1_DEP_DEVIS!#REF! -> #REF! | H33: =Part1_DEP_DEVIS!#REF! -> #REF! | I33: =Part1_DEP_DEVIS!#REF! -> #REF! | ... P33: =Part1_DEP_DEVIS!#REF! -> #REF! | AD33: =U33-AC33 -> 0
B34: =Part1_DEP_DEVIS!#REF! -> #REF! | C34: =Part1_DEP_DEVIS!#REF! -> #REF! | D34: =Part1_DEP_DEVIS!#REF! -> #REF! | E34: =Part1_DEP_DEVIS!#REF! -> #REF! | F34: =Part1_DEP_DEVIS!#REF! -> #REF! | G34: =Part1_DEP_DEVIS!#REF! -> #REF! | H34: =Part1_DEP_DEVIS!#REF! -> #REF! | I34: =Part1_DEP_DEVIS!#REF! -> #REF! | ... P34: =Part1_DEP_DEVIS!#REF! -> #REF! | AD34: =U34-AC34 -> 0
... B78: =Part1_DEP_DEVIS!#REF! -> #REF! | C78: =Part1_DEP_DEVIS!#REF! -> #REF! | D78: =Part1_DEP_DEVIS!#REF! -> #REF! | E78: =Part1_DEP_DEVIS!#REF! -> #REF! | F78: =Part1_DEP_DEVIS!#REF! -> #REF! | G78: =Part1_DEP_DEVIS!#REF! -> #REF! | H78: =Part1_DEP_DEVIS!#REF! -> #REF! | I78: =Part1_DEP_DEVIS!#REF! -> #REF! | ... P78: =Part1_DEP_DEVIS!#REF! -> #REF! | AD78: =U78-AC78 -> 0
B79: =Part1_DEP_DEVIS!B31 -> 0 | C79: =Part1_DEP_DEVIS!C31 -> 0 | D79: =Part1_DEP_DEVIS!E31 -> 0 | E79: =Part1_DEP_DEVIS!F31 -> 0 | F79: =Part1_DEP_DEVIS!H31 -> 0 | G79: =Part1_DEP_DEVIS!#REF! -> #REF! | H79: =Part1_DEP_DEVIS!I31 -> 0 | I79: =Part1_DEP_DEVIS!J31 -> 0 | J79: =Part1_DEP_DEVIS!K31 -> 0 | K79: =Part1_DEP_DEVIS!L31 -> 0 | L79: =Part1_DEP_DEVIS!M31 -> 0 | M79: =Part1_DEP_DEVIS!N31 -> 0 | N79: =Part1_DEP_DEVIS!O31 -> 0 | O79: =Part1_DEP_DEVIS!P31 -> 0 | P79: =Part1_DEP_DEVIS!R31 -> 0 | AD79: =U79-AC79 -> 0
B80: =Part1_DEP_DEVIS!B32 -> 0 | C80: =Part1_DEP_DEVIS!C32 -> 0 | D80: =Part1_DEP_DEVIS!E32 -> 0 | E80: =Part1_DEP_DEVIS!F32 -> 0 | F80: =Part1_DEP_DEVIS!H32 -> 0 | G80: =Part1_DEP_DEVIS!#REF! -> #REF! | H80: =Part1_DEP_DEVIS!I32 -> 0 | I80: =Part1_DEP_DEVIS!J32 -> 0 | J80: =Part1_DEP_DEVIS!K32 -> 0 | K80: =Part1_DEP_DEVIS!L32 -> 0 | L80: =Part1_DEP_DEVIS!M32 -> 0 | M80: =Part1_DEP_DEVIS!N32 -> 0 | N80: =Part1_DEP_DEVIS!O32 -> 0 | O80: =Part1_DEP_DEVIS!P32 -> 0 | P80: =Part1_DEP_DEVIS!R32 -> 0 | AD80: =U80-AC80 -> 0
B81: =Part1_DEP_DEVIS!B33 -> 0 | C81: =Part1_DEP_DEVIS!C33 -> 0 | D81: =Part1_DEP_DEVIS!E33 -> 0 | E81: =Part1_DEP_DEVIS!F33 -> 0 | F81: =Part1_DEP_DEVIS!H33 -> 0 | G81: =Part1_DEP_DEVIS!#REF! -> #REF! | H81: =Part1_DEP_DEVIS!I33 -> 0 | I81: =Part1_DEP_DEVIS!J33 -> 0 | J81: =Part1_DEP_DEVIS!K33 -> 0 | K81: =Part1_DEP_DEVIS!L33 -> 0 | L81: =Part1_DEP_DEVIS!M33 -> 0 | M81: =Part1_DEP_DEVIS!N33 -> 0 | N81: =Part1_DEP_DEVIS!O33 -> 0 | O81: =Part1_DEP_DEVIS!P33 -> 0 | P81: =Part1_DEP_DEVIS!R33 -> 0 | AD81: =U81-AC81 -> 0
B82: =Part1_DEP_DEVIS!B34 -> 0 | C82: =Part1_DEP_DEVIS!C34 -> 0 | D82: =Part1_DEP_DEVIS!E34 -> 0 | E82: =Part1_DEP_DEVIS!F34 -> 0 | F82: =Part1_DEP_DEVIS!H34 -> 0 | G82: =Part1_DEP_DEVIS!#REF! -> #REF! | H82: =Part1_DEP_DEVIS!I34 -> 0 | I82: =Part1_DEP_DEVIS!J34 -> 0 | J82: =Part1_DEP_DEVIS!K34 -> 0 | K82: =Part1_DEP_DEVIS!L34 -> 0 | L82: =Part1_DEP_DEVIS!M34 -> 0 | M82: =Part1_DEP_DEVIS!N34 -> 0 | N82: =Part1_DEP_DEVIS!O34 -> 0 | O82: =Part1_DEP_DEVIS!P34 -> 0 | P82: =Part1_DEP_DEVIS!R34 -> 0 | AD82: =U82-AC82 -> 0
B83: =Part1_DEP_DEVIS!B35 -> 0 | C83: =Part1_DEP_DEVIS!C35 -> 0 | D83: =Part1_DEP_DEVIS!E35 -> 0 | E83: =Part1_DEP_DEVIS!F35 -> 0 | F83: =Part1_DEP_DEVIS!H35 -> 0 | G83: =Part1_DEP_DEVIS!#REF! -> #REF! | H83: =Part1_DEP_DEVIS!I35 -> 0 | I83: =Part1_DEP_DEVIS!J35 -> 0 | J83: =Part1_DEP_DEVIS!K35 -> 0 | K83: =Part1_DEP_DEVIS!L35 -> 0 | L83: =Part1_DEP_DEVIS!M35 -> 0 | M83: =Part1_DEP_DEVIS!N35 -> 0 | N83: =Part1_DEP_DEVIS!O35 -> 0 | O83: =Part1_DEP_DEVIS!P35 -> 0 | P83: =Part1_DEP_DEVIS!R35 -> 0 | AD83: =U83-AC83 -> 0
B84: =Part1_DEP_DEVIS!B36 -> 0 | C84: =Part1_DEP_DEVIS!C36 -> 0 | D84: =Part1_DEP_DEVIS!E36 -> 0 | E84: =Part1_DEP_DEVIS!F36 -> 0 | F84: =Part1_DEP_DEVIS!H36 -> 0 | G84: =Part1_DEP_DEVIS!#REF! -> #REF! | H84: =Part1_DEP_DEVIS!I36 -> 0 | I84: =Part1_DEP_DEVIS!J36 -> 0 | J84: =Part1_DEP_DEVIS!K36 -> 0 | K84: =Part1_DEP_DEVIS!L36 -> 0 | L84: =Part1_DEP_DEVIS!M36 -> 0 | M84: =Part1_DEP_DEVIS!N36 -> 0 | N84: =Part1_DEP_DEVIS!O36 -> 0 | O84: =Part1_DEP_DEVIS!P36 -> 0 | P84: =Part1_DEP_DEVIS!R36 -> 0 | AD84: =U84-AC84 -> 0
B85: =Part1_DEP_DEVIS!B37 -> 0 | C85: =Part1_DEP_DEVIS!C37 -> 0 | D85: =Part1_DEP_DEVIS!E37 -> 0 | E85: =Part1_DEP_DEVIS!F37 -> 0 | F85: =Part1_DEP_DEVIS!H37 -> 0 | G85: =Part1_DEP_DEVIS!#REF! -> #REF! | H85: =Part1_DEP_DEVIS!I37 -> 0 | I85: =Part1_DEP_DEVIS!J37 -> 0 | J85: =Part1_DEP_DEVIS!K37 -> 0 | K85: =Part1_DEP_DEVIS!L37 -> 0 | L85: =Part1_DEP_DEVIS!M37 -> 0 | M85: =Part1_DEP_DEVIS!N37 -> 0 | N85: =Part1_DEP_DEVIS!O37 -> 0 | O85: =Part1_DEP_DEVIS!P37 -> 0 | P85: =Part1_DEP_DEVIS!R37 -> 0 | AD85: =U85-AC85 -> 0
B86: =Part1_DEP_DEVIS!B38 -> 0 | C86: =Part1_DEP_DEVIS!C38 -> 0 | D86: =Part1_DEP_DEVIS!E38 -> 0 | E86: =Part1_DEP_DEVIS!F38 -> 0 | F86: =Part1_DEP_DEVIS!H38 -> 0 | G86: =Part1_DEP_DEVIS!#REF! -> #REF! | H86: =Part1_DEP_DEVIS!I38 -> 0 | I86: =Part1_DEP_DEVIS!J38 -> 0 | J86: =Part1_DEP_DEVIS!K38 -> 0 | K86: =Part1_DEP_DEVIS!L38 -> 0 | L86: =Part1_DEP_DEVIS!M38 -> 0 | M86: =Part1_DEP_DEVIS!N38 -> 0 | N86: =Part1_DEP_DEVIS!O38 -> 0 | O86: =Part1_DEP_DEVIS!P38 -> 0 | P86: =Part1_DEP_DEVIS!R38 -> 0 | AD86: =U86-AC86 -> 0
...

Sheet INSTRU_DEP_PERS_OCS_2
A1: INSTRUCTION
A2: 2: DEPENSE DE PERSONNEL
A3: FONDS EUROPEEN AGRICOLE POUR LE DEVELOPPEMENT RURAL (FEADER)
A5: Porteur du projet : | C5: =NOTICE!C7 -> 0
A6: Intitulé du projet : | C6: =NOTICE!C8 -> 0
C10: Montant TOTAL: | F10: =H142 -> 0
B12: Je demande (nous demandons) à bénéficier de l'aide sur les coûts indirects liés à l'opération d'un taux forfaitaire de 15% des frais de personnels directs éligibles | I12: =Part_2_DEP_PERS_OCS!I11 -> Oui
B16: Actions/missions concernées | C16: Nom de l'intervenant | D16: Qualification du poste occupé par l'intervenant | E16: Catégorie du poste sur la base de la Déclaration Sociale Nominative (DSN) | F16: Barème Horaire | G16: Temps de travail consacré au projet en heure | H16: Montant présenté | I16: Commentaire/Justification du rattachement à la catégorie du poste et de la source utilisée pour le rattachement (DSN, fichier de classification mis à disposition, catégories de la fonction publique…)
F17: (1) | G17: (2) | H17: 1*2
B18: =Part_2_DEP_PERS_OCS!B17 -> 0 | C18: =Part_2_DEP_PERS_OCS!C17 -> 0 | D18: =Part_2_DEP_PERS_OCS!D17 -> 0 | F18: =IF(E18="Cadre",39.69,IF(E18="Non cadre",30.72,IF(E18="Stagiaire",4.05,0))) -> 0 | G18: =Part_2_DEP_PERS_OCS!G17 -> 0 | H18: =F18*G18 -> 0
B19: =Part_2_DEP_PERS_OCS!B18 -> 0 | C19: =Part_2_DEP_PERS_OCS!C18 -> 0 | D19: =Part_2_DEP_PERS_OCS!D18 -> 0 | F19: =IF(E19="Cadre",39.69,IF(E19="Non cadre",30.72,IF(E19="Stagiaire",4.05,0))) -> 0 | G19: =Part_2_DEP_PERS_OCS!G18 -> 0 | H19: =F19*G19 -> 0
B20: =Part_2_DEP_PERS_OCS!B19 -> 0 | C20: =Part_2_DEP_PERS_OCS!C19 -> 0 | D20: =Part_2_DEP_PERS_OCS!D19 -> 0 | F20: =IF(E20="Cadre",39.69,IF(E20="Non cadre",30.72,IF(E20="Stagiaire",4.05,0))) -> 0 | G20: =Part_2_DEP_PERS_OCS!G19 -> 0 | H20: =F20*G20 -> 0
B21: =Part_2_DEP_PERS_OCS!B20 -> 0 | C21: =Part_2_DEP_PERS_OCS!C20 -> 0 | D21: =Part_2_DEP_PERS_OCS!D20 -> 0 | F21: =IF(E21="Cadre",39.69,IF(E21="Non cadre",30.72,IF(E21="Stagiaire",4.05,0))) -> 0 | G21: =Part_2_DEP_PERS_OCS!G20 -> 0 | H21: =F21*G21 -> 0
B22: =Part_2_DEP_PERS_OCS!B21 -> 0 | C22: =Part_2_DEP_PERS_OCS!C21 -> 0 | D22: =Part_2_DEP_PERS_OCS!D21 -> 0 | F22: =IF(E22="Cadre",39.69,IF(E22="Non cadre",30.72,IF(E22="Stagiaire",4.05,0))) -> 0 | G22: =Part_2_DEP_PERS_OCS!G21 -> 0 | H22: =F22*G22 -> 0
B23: =Part_2_DEP_PERS_OCS!B22 -> 0 | C23: =Part_2_DEP_PERS_OCS!C22 -> 0 | D23: =Part_2_DEP_PERS_OCS!D22 -> 0 | F23: =IF(E23="Cadre",39.69,IF(E23="Non cadre",30.72,IF(E23="Stagiaire",4.05,0))) -> 0 | G23: =Part_2_DEP_PERS_OCS!G22 -> 0 | H23: =F23*G23 -> 0
B24: =Part_2_DEP_PERS_OCS!B23 -> 0 | C24: =Part_2_DEP_PERS_OCS!C23 -> 0 | D24: =Part_2_DEP_PERS_OCS!D23 -> 0 | F24: =IF(E24="Cadre",39.69,IF(E24="Non cadre",30.72,IF(E24="Stagiaire",4.05,0))) -> 0 | G24: =Part_2_DEP_PERS_OCS!G23 -> 0 | H24: =F24*G24 -> 0
B25: =Part_2_DEP_PERS_OCS!B24 -> 0 | C25: =Part_2_DEP_PERS_OCS!C24 -> 0 | D25: =Part_2_DEP_PERS_OCS!D24 -> 0 | F25: =IF(E25="Cadre",39.69,IF(E25="Non cadre",30.72,IF(E25="Stagiaire",4.05,0))) -> 0 | G25: =Part_2_DEP_PERS_OCS!G24 -> 0 | H25: =F25*G25 -> 0
B26: =Part_2_DEP_PERS_OCS!B25 -> 0 | C26: =Part_2_DEP_PERS_OCS!C25 -> 0 | D26: =Part_2_DEP_PERS_OCS!D25 -> 0 | F26: =IF(E26="Cadre",39.69,IF(E26="Non cadre",30.72,IF(E26="Stagiaire",4.05,0))) -> 0 | G26: =Part_2_DEP_PERS_OCS!G25 -> 0 | H26: =F26*G26 -> 0
B27: =Part_2_DEP_PERS_OCS!B26 -> 0 | C27: =Part_2_DEP_PERS_OCS!C26 -> 0 | D27: =Part_2_DEP_PERS_OCS!D26 -> 0 | F27: =IF(E27="Cadre",39.69,IF(E27="Non cadre",30.72,IF(E27="Stagiaire",4.05,0))) -> 0 | G27: =Part_2_DEP_PERS_OCS!G26 -> 0 | H27: =F27*G27 -> 0
B28: =Part_2_DEP_PERS_OCS!B27 -> 0 | C28: =Part_2_DEP_PERS_OCS!C27 -> 0 | D28: =Part_2_DEP_PERS_OCS!D27 -> 0 | F28: =IF(E28="Cadre",39.69,IF(E28="Non cadre",30.72,IF(E28="Stagiaire",4.05,0))) -> 0 | G28: =Part_2_DEP_PERS_OCS!G27 -> 0 | H28: =F28*G28 -> 0
B29: =Part_2_DEP_PERS_OCS!B28 -> 0 | C29: =Part_2_DEP_PERS_OCS!C28 -> 0 | D29: =Part_2_DEP_PERS_OCS!D28 -> 0 | F29: =IF(E29="Cadre",39.69,IF(E29="Non cadre",30.72,IF(E29="Stagiaire",4.05,0))) -> 0 | G29: =Part_2_DEP_PERS_OCS!G28 -> 0 | H29: =F29*G29 -> 0
... B141: =Part_2_DEP_PERS_OCS!B140 -> 0 | C141: =Part_2_DEP_PERS_OCS!C140 -> 0 | D141: =Part_2_DEP_PERS_OCS!D140 -> 0 | F141: =IF(E141="Cadre",39.69,IF(E141="Non cadre",30.72,IF(E141="Stagiaire",4.05,0))) -> 0 | G141: =Part_2_DEP_PERS_OCS!G140 -> 0 | H141: =F141*G141 -> 0
B142: Montant TOTAL | H142: =SUM(H18:H141) -> 0

Sheet INSTRU_SYNTHESE_3
B1: INSTRUCTION
B2: 3: SYNTHESE
B3: FONDS EUROPEEN AGRICOLE POUR LE DEVELOPPEMENT RURAL (FEADER)
B5: Porteur du projet : | D5: =NOTICE!C7 -> 0
B6: Intitulé du projet : | D6: =NOTICE!C8 -> 0
C9: Type de Depense | D9: Montant total | E9: Différence entre présenté et retenu
C10: Dépenses de personnel | D10: =INSTRU_DEP_PERS_OCS_2!F10 -> 0 | E10: =Part_3_SYNTHESE!D10-INSTRU_SYNTHESE_3!D10 -> 0
C11: Coûts Indirects | D11: =0.15*D10 -> 0 | E11: =Part_3_SYNTHESE!D11-INSTRU_SYNTHESE_3!D11 -> 0
C12: Prestations de services | D12: =INSTRU_PRESTA_EXT_1!AC8 -> 0 | E12: =Part_3_SYNTHESE!D12-INSTRU_SYNTHESE_3!D12 -> 0
C13: TOTAL Projet | D13: =SUM(D10:D12) -> 0 | E13: =Part_3_SYNTHESE!D15-INSTRU_SYNTHESE_3!D13 -> 0
C14: Plafonnement après instruction
C16: Les valeurs du tableau ci-dessus sont à reporter dans l'onglet plan de financement de votre demande d'aide sur "Mes Demarches en Nouvelle-Aquitaine"
C20: Plan de financement prévisionnel
C21: Financeurs sollicités | D21: Montant total
B22: Cadre de l'AAP : aide max | C22: Région | D22: =IF(NOTICE!C6="AAP Agriculture Biologique",D14*0.8,D14*0.7)*0.4 -> 0
C23: FEADER | D23: =IF(NOTICE!C6="AAP Agriculture Biologique",D14*0.8,D14*0.7)*0.6 -> 0
C24: Départements
C25: Communes
C26: EPCI
C27: AELB
C28: Autre :
C29: Autre :
C30: Autre :
C31: Autofinancement | D31: =D14-SUM(D22:D30) -> 0
C32: TOTAL général | D32: =SUM(D22:D31) -> 0
C36: Fait à _______________, le ______________
C38: Signature de l'instructeur
C39: Nom du signataire : _____________________________
C40: Fonction du signataire : _____________________________
C41: Signature :
